BEGIN:VCALENDAR
PRODID:-//Microsoft Corporation//Outlook 12.0 MIMEDIR//EN
VERSION:2.0
CALSCALE:GREGORIAN
BEGIN:VEVENT
UID: e0dbda7a-d8f3-4805-b615-47a7b8e24cee
SUMMARY:Arukate Õpilaste Akadeemia 
DTSTAMP:20241204
DTSTART:20241204
DTEND:20241205
DURATION:P1D
LOCATION:Narva
DESCRIPTION: <p><strong>Link: </strong>https://www.sillapk.edu.ee/et/sundmuste-kalender/arukate-opilaste-akadeemia</p><p><strong>Hind: </strong></p>
STATUS:CONFIRMED
SEQUENCE:3
X-ALT-DESC;FMTTYPE=text/html:<p><strong>Link: </strong>https://www.sillapk.edu.ee/et/sundmuste-kalender/arukate-opilaste-akadeemia</p><p><strong>Hind: </strong></p>
X-MICROSOFT-CDO-BUSYSTATUS:OOF
X-MICROSOFT-CDO-IMPORTANCE:1
X-MICROSOFT-DISALLOW-COUNTER:FALSE
X-MS-OLK-ALLOWEXTERNCHECK:TRUE
X-MS-OLK-CONFTYPE:0
X-MICROSOFT-CDO-ALLDAYEVENT:1
X-MICROSOFT-MSNCALENDAR-ALLDAYEVENT:1
END:VEVENT
END:VCALENDAR